BEGIN:VCALENDAR
VERSION:2.0
PRODID:-//Bürgerwissenschaften und Forschendes  - ECPv6.15.14//NONSGML v1.0//EN
CALSCALE:GREGORIAN
METHOD:PUBLISH
X-WR-CALNAME:Bürgerwissenschaften und Forschendes 
X-ORIGINAL-URL:https://forschendes-lernen.de
X-WR-CALDESC:Veranstaltungen für Bürgerwissenschaften und Forschendes 
REFRESH-INTERVAL;VALUE=DURATION:PT1H
X-Robots-Tag:noindex
X-PUBLISHED-TTL:PT1H
BEGIN:VTIMEZONE
TZID:Europe/Berlin
BEGIN:DAYLIGHT
TZOFFSETFROM:+0100
TZOFFSETTO:+0200
TZNAME:CEST
DTSTART:20240331T010000
END:DAYLIGHT
BEGIN:STANDARD
TZOFFSETFROM:+0200
TZOFFSETTO:+0100
TZNAME:CET
DTSTART:20241027T010000
END:STANDARD
BEGIN:DAYLIGHT
TZOFFSETFROM:+0100
TZOFFSETTO:+0200
TZNAME:CEST
DTSTART:20250330T010000
END:DAYLIGHT
BEGIN:STANDARD
TZOFFSETFROM:+0200
TZOFFSETTO:+0100
TZNAME:CET
DTSTART:20251026T010000
END:STANDARD
BEGIN:DAYLIGHT
TZOFFSETFROM:+0100
TZOFFSETTO:+0200
TZNAME:CEST
DTSTART:20260329T010000
END:DAYLIGHT
BEGIN:STANDARD
TZOFFSETFROM:+0200
TZOFFSETTO:+0100
TZNAME:CET
DTSTART:20261025T010000
END:STANDARD
BEGIN:DAYLIGHT
TZOFFSETFROM:+0100
TZOFFSETTO:+0200
TZNAME:CEST
DTSTART:20270328T010000
END:DAYLIGHT
BEGIN:STANDARD
TZOFFSETFROM:+0200
TZOFFSETTO:+0100
TZNAME:CET
DTSTART:20271031T010000
END:STANDARD
END:VTIMEZONE
BEGIN:VEVENT
DTSTART;TZID=Europe/Berlin:20260421T100000
DTEND;TZID=Europe/Berlin:20260421T120000
DTSTAMP:20260421T172929
CREATED:20260129T143110Z
LAST-MODIFIED:20260129T143110Z
UID:7243-1776765600-1776772800@forschendes-lernen.de
SUMMARY:AK AltJung Monatliches Treffen
DESCRIPTION:
URL:https://forschendes-lernen.de/event/ak-altjung-monatliches-treffen-3/
LOCATION:Generationentreff Ulm/Neu-Ulm e.V.\, Grüner Hof 5\, Ulm\, Germany
CATEGORIES:AK AltJung,Bürgerwissenschaften,Forschendes Lernen
END:VEVENT
BEGIN:VEVENT
DTSTART;TZID=Europe/Berlin:20260417T143000
DTEND;TZID=Europe/Berlin:20260417T170000
DTSTAMP:20260421T172929
CREATED:20260206T161523Z
LAST-MODIFIED:20260206T161523Z
UID:7296-1776436200-1776445200@forschendes-lernen.de
SUMMARY:AK Lebensgestaltung im Alter
DESCRIPTION:monatliches Treffen des AK Lebensgestaltung im Alter des Forschenden Lernens vom ZAWiW\nderzeit liegt der Fokus auf der Bildung im Alter\, gemeinsam erarbeiten wir uns das Lehrbuch Geragogik
URL:https://forschendes-lernen.de/event/ak-lebensgestaltung-im-alter-15/
LOCATION:Alter Senatssaal\, ZAWiW\, Pavillon 1\, Albert-Einstein-Allee 5\, 89081 Ulm
END:VEVENT
BEGIN:VEVENT
DTSTART;TZID=Europe/Berlin:20260416T180000
DTEND;TZID=Europe/Berlin:20260416T193000
DTSTAMP:20260421T172929
CREATED:20260303T100815Z
LAST-MODIFIED:20260303T111537Z
UID:7315-1776362400-1776367800@forschendes-lernen.de
SUMMARY:H2 Pioniere: Aktuelles aus dem Netz - welche Herausforderungen die Energiewende für das Übertragungsnetz bringt
DESCRIPTION:Diese Woche gibt es bei den H2 Pionieren Neues aus dem Netz! Dr.-Ing. Dominik Schlipf von TransnetBW spricht über Herausforderungen\, die die Energiewende für das Übertragungsnetz mit sich bringt.
URL:https://forschendes-lernen.de/event/h2-pioniere-aktuelles-aus-dem-netz-welche-herausforderungen-die-energiewende-fuer-das-uebertragungsnetz-bringt/
LOCATION:online
CATEGORIES:AK Grüner Wasserstoff,H2-Wandel
ATTACH;FMTTYPE=image/jpeg:https://forschendes-lernen.de/wp-content/uploads/2026/03/202604_Postkarte-H2-Pioniere1.jpg
END:VEVENT
BEGIN:VEVENT
DTSTART;TZID=Europe/Berlin:20260409T180000
DTEND;TZID=Europe/Berlin:20260409T193000
DTSTAMP:20260421T172929
CREATED:20260303T100314Z
LAST-MODIFIED:20260303T100850Z
UID:7311-1775757600-1775763000@forschendes-lernen.de
SUMMARY:H2 Pioniere: H2 in der Mobilität - eine Bestandsaufnahme des größten H2 Tankstellenbetreibers Europas
DESCRIPTION:Welche Rolle spielt Wasserstoff in der Mobilität und welche wird er spielen? Annett Breuer – Sales & Business Development\, H2 Mobility nimmt eine Bestandsaufnahme vor. Seit 2025 ist H2-Mobility Teil der Modellregion H2-Wandel.
URL:https://forschendes-lernen.de/event/h2-in-der-mobilitaet-eine-bestandsaufnahme-des-groessten-h2-tankstellenbetreibers-europas/
LOCATION:online
CATEGORIES:AK Grüner Wasserstoff,H2-Wandel
ATTACH;FMTTYPE=image/jpeg:https://forschendes-lernen.de/wp-content/uploads/2026/03/202604_Postkarte-H2-Pioniere1.jpg
END:VEVENT
BEGIN:VEVENT
DTSTART;TZID=Europe/Berlin:20260409T140000
DTEND;TZID=Europe/Berlin:20260409T160000
DTSTAMP:20260421T172929
CREATED:20260206T160615Z
LAST-MODIFIED:20260206T160615Z
UID:7283-1775743200-1775750400@forschendes-lernen.de
SUMMARY:AK Wirtschaft
DESCRIPTION:14-tägiges Treffen des AK Wirtschaft aus dem Forschenden Lernen beim ZAWiW
URL:https://forschendes-lernen.de/event/ak-wirtschaft-49/
LOCATION:Villa Eberhardt\, Heidenheimer Str. 80\, 89075 Ulm
ORGANIZER;CN="AK Wirtschaft":MAILTO:stefan.kellerer@uni-ulm.de
END:VEVENT
BEGIN:VEVENT
DTSTART;TZID=Europe/Berlin:20260407T100000
DTEND;TZID=Europe/Berlin:20260407T120000
DTSTAMP:20260421T172929
CREATED:20260206T163248Z
LAST-MODIFIED:20260206T163248Z
UID:7301-1775556000-1775563200@forschendes-lernen.de
SUMMARY:ErzählCafe zur Jugend in den 1960er-/1970er-Jahren
DESCRIPTION:Ulmer Zeitzeugeninitiative: ErzählCafe zur Jugend in den 1960er-/1970er-Jahren:. Eingeladen sind alle\, die Lust und Zeit haben\, aus ihrer Jugend in den 60er/70er Jahren in Ulm zu erzählen und mit anderen ins Gespräch zu kommen.  Moderation Dr. Markus Marquad und Prof. Dr. Ulrich Klemm
URL:https://forschendes-lernen.de/event/erzaehlcafe-zur-jugend-in-den-1960er-1970er-jahren/
LOCATION:Felix-Fabri-Saal (Generationentreff Ulm)\, Grüner Hof 5\, 89073 Ulm
ORGANIZER;CN="GenerationenTreff Ulm/Neu-Ulm e.V.%3B  Gr%C3%BCner Hof 5%3B  89073 Ulm":MAILTO:info@gt-ulm.de
END:VEVENT
BEGIN:VEVENT
DTSTART;TZID=Europe/Berlin:20260326T140000
DTEND;TZID=Europe/Berlin:20260326T160000
DTSTAMP:20260421T172929
CREATED:20260206T160511Z
LAST-MODIFIED:20260206T160511Z
UID:7281-1774533600-1774540800@forschendes-lernen.de
SUMMARY:AK Wirtschaft
DESCRIPTION:14-tägiges Treffen des AK Wirtschaft aus dem Forschenden Lernen beim ZAWiW
URL:https://forschendes-lernen.de/event/ak-wirtschaft-48/
LOCATION:Alter Senatssaal\, ZAWiW\, Pavillon 1\, Albert-Einstein-Allee 5\, 89081 Ulm
ORGANIZER;CN="AK Wirtschaft":MAILTO:stefan.kellerer@uni-ulm.de
END:VEVENT
BEGIN:VEVENT
DTSTART;TZID=Europe/Berlin:20260320T143000
DTEND;TZID=Europe/Berlin:20260320T170000
DTSTAMP:20260421T172929
CREATED:20260206T161348Z
LAST-MODIFIED:20260206T161348Z
UID:7294-1774017000-1774026000@forschendes-lernen.de
SUMMARY:AK Lebensgestaltung im Alter
DESCRIPTION:monatliches Treffen des AK Lebensgestaltung im Alter des Forschenden Lernens vom ZAWiW\nderzeit liegt der Fokus auf der Bildung im Alter\, gemeinsam erarbeiten wir uns das Lehrbuch Geragogik
URL:https://forschendes-lernen.de/event/ak-lebensgestaltung-im-alter-14/
LOCATION:Alter Senatssaal\, ZAWiW\, Pavillon 1\, Albert-Einstein-Allee 5\, 89081 Ulm
ORGANIZER;CN="ZAWiW%2C uulm":MAILTO:info@zawiw.de
END:VEVENT
BEGIN:VEVENT
DTSTART;TZID=Europe/Berlin:20260317T100000
DTEND;TZID=Europe/Berlin:20260317T110000
DTSTAMP:20260421T172929
CREATED:20260313T140657Z
LAST-MODIFIED:20260313T140705Z
UID:7324-1773741600-1773745200@forschendes-lernen.de
SUMMARY:AK Alt Jung: Führung Sternwarte
DESCRIPTION:Treffpunkt: am Haupteingang Schubart Gymnasium Ulm
URL:https://forschendes-lernen.de/event/ak-alt-jung-fuehrung-sternwarte/
LOCATION:Sternwarte Schubart Gymnasium Ulm\, Innere Wallstr. 30\, 89077 Ulm\, 89077\, Germany
CATEGORIES:AK AltJung,Forschendes Lernen
END:VEVENT
BEGIN:VEVENT
DTSTART;TZID=Europe/Berlin:20260316T143000
DTEND;TZID=Europe/Berlin:20260316T170000
DTSTAMP:20260421T172929
CREATED:20260206T163128Z
LAST-MODIFIED:20260206T163128Z
UID:7298-1773671400-1773680400@forschendes-lernen.de
SUMMARY:Ulmer Zeitzeugeninitiative: Zeitzeugenarbeit entwickeln
DESCRIPTION:Ulmer Zeitzeugeninitiative: Zeitzeugenarbeit entwickeln. Eingeladen sind alle\, die Lust und Zeit haben\, sich aktiv an der Zeitzeugenarbeit zu beteiligen.\nEinführung in die Arbeit des Stadtarchivs durch Ulrich Seemüller und Überblick über mögliche Aktivitäten eines Arbeitskreises Zeitzeugenarbeit mit Dr. Markus Marquard\, Moderation Prof. Dr. Ulrich Klemm
URL:https://forschendes-lernen.de/event/ulmer-zeitzeugeninitiative-zeitzeugenarbeit-entwickeln/
LOCATION:Stadtarchiv Ulm\, Weinhof 12\, Ulm
END:VEVENT
BEGIN:VEVENT
DTSTART;TZID=Europe/Berlin:20260312T140000
DTEND;TZID=Europe/Berlin:20260312T160000
DTSTAMP:20260421T172929
CREATED:20260206T160421Z
LAST-MODIFIED:20260206T160421Z
UID:7279-1773324000-1773331200@forschendes-lernen.de
SUMMARY:AK Wirtschaft
DESCRIPTION:14-tägiges Treffen des AK Wirtschaft aus dem Forschenden Lernen beim ZAWiW
URL:https://forschendes-lernen.de/event/ak-wirtschaft-47/
LOCATION:Villa Eberhardt\, Heidenheimer Str. 80\, 89075 Ulm
ORGANIZER;CN="AK Wirtschaft":MAILTO:stefan.kellerer@uni-ulm.de
END:VEVENT
BEGIN:VEVENT
DTSTART;TZID=Europe/Berlin:20260310T100000
DTEND;TZID=Europe/Berlin:20260310T160000
DTSTAMP:20260421T172929
CREATED:20260206T161024Z
LAST-MODIFIED:20260206T161024Z
UID:7290-1773136800-1773158400@forschendes-lernen.de
SUMMARY:AK Media
DESCRIPTION:monatliches Treffen des AK Media im Forschenden Lernen vom ZAWiW
URL:https://forschendes-lernen.de/event/ak-media-5/
LOCATION:Villa Eberhardt\, Heidenheimer Str. 80\, 89075 Ulm
END:VEVENT
BEGIN:VEVENT
DTSTART;TZID=Europe/Berlin:20260303T143000
DTEND;TZID=Europe/Berlin:20260303T170000
DTSTAMP:20260421T172929
CREATED:20260206T160012Z
LAST-MODIFIED:20260206T160012Z
UID:7272-1772548200-1772557200@forschendes-lernen.de
SUMMARY:Ulm in den 1960er-/1970er-Jahren: Auftaktveranstaltung zur Ulmer Zeitzeugeninitiative
DESCRIPTION:Ulm in den 1960er-/1970er-Jahren: Auftaktveranstaltung zur Ulmer Zeitzeugeninitiative\nGemeinsam mit dem Generationentreff Ulm/Neu-Ulm\, dem Ulmer Stadtarchiv und dem ZAWiW an der Universität Ulm und startet 2026 eine Zeitzeugeninitiative zum Lebensalltag in Ulm in den 1960er- und 1970er- Jahren. In der Auftaktveranstaltung erfahren Sie Interessantes aus diesen zwei Jahrzehnten in Ulm\, und wir informieren Sie über die weiteren Aktivitäten sowie über eine aktive Mitarbeit als Zeitzeugin und Zeitzeuge.\nReferenten: Prof. Dr. Jürgen Häusler (Zürich)\, Günter Merkle\, sowie Zeitzeug*innen. Moderation Prof. Dr. Ulrich Klemm
URL:https://forschendes-lernen.de/event/ulm-in-den-1960er-1970er-jahren-auftaktveranstaltung-zur-ulmer-zeitzeugeninitiative/
LOCATION:Felix-Fabri-Saal (Generationentreff Ulm)\, Grüner Hof 5\, 89073 Ulm
ORGANIZER;CN="GenerationenTreff Ulm/Neu-Ulm e.V.%3B  Gr%C3%BCner Hof 5%3B  89073 Ulm":MAILTO:info@gt-ulm.de
END:VEVENT
BEGIN:VEVENT
DTSTART;TZID=Europe/Berlin:20260226T140000
DTEND;TZID=Europe/Berlin:20260226T160000
DTSTAMP:20260421T172929
CREATED:20260206T160208Z
LAST-MODIFIED:20260206T160227Z
UID:7277-1772114400-1772121600@forschendes-lernen.de
SUMMARY:AK Wirtschaft
DESCRIPTION:14-tägiges Treffen des AK Wirtschaft aus dem Forschenden Lernen beim ZAWiW
URL:https://forschendes-lernen.de/event/ak-wirtschaft-46/
LOCATION:Villa Eberhardt\, Heidenheimer Str. 80\, 89075 Ulm
ORGANIZER;CN="AK Wirtschaft":MAILTO:stefan.kellerer@uni-ulm.de
END:VEVENT
BEGIN:VEVENT
DTSTART;TZID=Europe/Berlin:20260224T100000
DTEND;TZID=Europe/Berlin:20260224T120000
DTSTAMP:20260421T172929
CREATED:20260129T142913Z
LAST-MODIFIED:20260129T143145Z
UID:7237-1771927200-1771934400@forschendes-lernen.de
SUMMARY:AK AltJung Monatliches Treffen
DESCRIPTION:Teil 2: Astronomische Uhr
URL:https://forschendes-lernen.de/event/ak-altjung-monatliches-treffen/
LOCATION:Generationentreff Ulm/Neu-Ulm e.V.\, Grüner Hof 5\, Ulm\, Germany
CATEGORIES:AK AltJung,Bürgerwissenschaften,Forschendes Lernen
END:VEVENT
BEGIN:VEVENT
DTSTART;TZID=Europe/Berlin:20260220T143000
DTEND;TZID=Europe/Berlin:20260220T170000
DTSTAMP:20260421T172929
CREATED:20260206T161256Z
LAST-MODIFIED:20260206T161256Z
UID:7292-1771597800-1771606800@forschendes-lernen.de
SUMMARY:AK Lebensgestaltung im Alter
DESCRIPTION:monatliches Treffen des AK Lebensgestaltung im Alter des Forschenden Lernens vom ZAWiW\nderzeit liegt der Fokus auf der Bildung im Alter\, gemeinsam erarbeiten wir uns das Lehrbuch Geragogik
URL:https://forschendes-lernen.de/event/ak-lebensgestaltung-im-alter-13/
LOCATION:Villa Eberhardt\, Heidenheimer Str. 80\, 89075 Ulm
ORGANIZER;CN="ZAWiW%2C uulm":MAILTO:info@zawiw.de
END:VEVENT
BEGIN:VEVENT
DTSTART;TZID=Europe/Berlin:20260212T140000
DTEND;TZID=Europe/Berlin:20260212T160000
DTSTAMP:20260421T172929
CREATED:20260206T154932Z
LAST-MODIFIED:20260206T154932Z
UID:7269-1770904800-1770912000@forschendes-lernen.de
SUMMARY:AK Wirtschaft
DESCRIPTION:14-tägiges Treffen des AK Wirtschaft aus dem Forschenden Lernen beim ZAWiW
URL:https://forschendes-lernen.de/event/ak-wirtschaft-45/
LOCATION:Villa Eberhardt\, Heidenheimer Str. 80\, 89075 Ulm
ORGANIZER;CN="AK Wirtschaft":MAILTO:stefan.kellerer@uni-ulm.de
END:VEVENT
BEGIN:VEVENT
DTSTART;TZID=Europe/Berlin:20260210T100000
DTEND;TZID=Europe/Berlin:20260210T160000
DTSTAMP:20260421T172929
CREATED:20260206T160927Z
LAST-MODIFIED:20260206T160927Z
UID:7287-1770717600-1770739200@forschendes-lernen.de
SUMMARY:AK Media
DESCRIPTION:monatliches Treffen des AK Media im Forschenden Lernen vom ZAWiW
URL:https://forschendes-lernen.de/event/ak-media-4/
LOCATION:Villa Eberhardt\, Heidenheimer Str. 80\, 89075 Ulm
END:VEVENT
BEGIN:VEVENT
DTSTART;TZID=Europe/Berlin:20260209T133000
DTEND;TZID=Europe/Berlin:20260209T143000
DTSTAMP:20260421T172929
CREATED:20260127T080707Z
LAST-MODIFIED:20260127T081121Z
UID:7232-1770643800-1770647400@forschendes-lernen.de
SUMMARY:AK Pflanzenökologie
DESCRIPTION:Ideen und Fragestellungen für die Versuche der Saison 2026 werden weiter vertieft. Erste Pflanzen werden ausgesät. Neuinteressierte wenden sich bitte an den Sprecher Gerhard Schwenk unter gerhard.schwenk@uni-ulm.de
URL:https://forschendes-lernen.de/event/ak-pflanzenoekologie-15/
LOCATION:Botanischer Garten Universität Ulm\, Seminarraum
END:VEVENT
BEGIN:VEVENT
DTSTART;TZID=Europe/Berlin:20251216T150000
DTEND;TZID=Europe/Berlin:20251216T170000
DTSTAMP:20260421T172929
CREATED:20251205T110932Z
LAST-MODIFIED:20251205T110957Z
UID:7161-1765897200-1765904400@forschendes-lernen.de
SUMMARY:Weihnachtliches Wissenschaftscafé
DESCRIPTION:Die Stadtbibliothek Ulm startet gemeinsam mit dem Zentrum für Allgemeine Wissenschaftliche Weiterbildung (ZAWiW) der Universität Ulm ein neues Veranstaltungsformat: das Wissenschaftscafé. Am Dienstag\, den 16. Dezember\, findet die erste Ausgabe statt – mit einem weihnachtlichen Schwerpunkt. \n\n\n\nVon 15 bis 17 Uhr lädt das Wissenschaftscafé im Untergeschoss der Stadtbibliothek zum offenen Kommen und Gehen ein. Studierende der Universität Ulm gestalten mehrere Kurzstationen\, an denen Interessierte in entspannter Atmosphäre ins Gespräch kommen und wissenschaftliche Fun Facts entdecken können. Die Themen reichen von winterfesten Pflanzen über die Struktur einer Schneeflocke bis zu Fragen rund um Werbung und Konsum in der Adventszeit. Plätzchen und alkoholfreier Punsch laden zum Verweilen ein. \n\n\n\nDas Wissenschaftscafé richtet sich an alle\, die neugierig auf Wissenschaft sind. Vorwissen ist nicht erforderlich. 
URL:https://forschendes-lernen.de/event/weihnachtliches-wissenschaftscafe/
LOCATION:Untergeschoss Zentralbibliothek\, Vestgasse 1\, 89073 Ulm
ATTACH;FMTTYPE=image/png:https://forschendes-lernen.de/wp-content/uploads/2025/12/Copy-of-wissenschaftscafe_poster1.png
END:VEVENT
BEGIN:VEVENT
DTSTART;TZID=Europe/Berlin:20251208T133000
DTEND;TZID=Europe/Berlin:20251208T153000
DTSTAMP:20260421T172929
CREATED:20250814T091714Z
LAST-MODIFIED:20260111T160949Z
UID:7005-1765200600-1765207800@forschendes-lernen.de
SUMMARY:AK Treffen Pflanzenökologie
DESCRIPTION:Der AK Pflanzenökologie trifft sich am Montag\, 12.01.2026 um 14:00 Uhr online über Zoom. Bei Interesse kontaktieren Sie bitte den Sprecher unter gerhard.schwenk@uni-ulm.de
URL:https://forschendes-lernen.de/event/ak-treffen-pflanzenoekologie-4/
END:VEVENT
BEGIN:VEVENT
DTSTART;TZID=Europe/Berlin:20251120T190000
DTEND;TZID=Europe/Berlin:20251120T210000
DTSTAMP:20260421T172929
CREATED:20250922T112937Z
LAST-MODIFIED:20251030T172116Z
UID:7035-1763665200-1763672400@forschendes-lernen.de
SUMMARY:Citizen Science Slam
DESCRIPTION:1. Ulmer Citizen Science Slam – Wissenschaft für alle \n\n\n\nAm 20. November 2025 findet im Stadthaus Ulm der erste Ulmer Citizen Science Slam statt – ein Abend\, an dem Bürger*innen und Wissenschaftler*innen gemeinsam zeigen\, wie spannend Forschung zum Mitmachen sein kann. Ziel des Formats: Wissenschaft erlebbar machen\, Menschen zum Staunen bringen – und zeigen\, dass jede*r zur Forschung beitragen kann. \n\n\n\nCitizen Science bedeutet\, dass sich Menschen außerhalb der Wissenschaft aktiv an Forschungsprojekten beteiligen – sie zählen\, messen\, beobachten oder entwickeln mit. Beim Slam berichten sie selbst von ihren Projekten: kurz\, verständlich und unterhaltsam. \n\n\n\n\nDie Themen sind so unterschiedlich wie die Menschen\, die sie auf die Bühne bringen – engagierte Bürger*innen und professionelle Wissenschaftler*innen\, jung und älter\, alle neugierig und mutig. Vom Forschen auf dem Fahrrad über technische Experimente mit überraschendem Ausgang bis zur Zeitreise in die Kunstgeschichte – Vertreter*innen des ADFC\, der Technischen Hochschule Ulm\, des Arbeitskreises Frauengeschichte am ZAWiW der Universität Ulm und des Botanischen Gartens nehmen das Publikum mit auf ihre ganz eigene Forschungsreise. Dabei wird sichtbar\, wie vielfältig Bürgerwissenschaften in Ulm sind und welchen Beitrag sie zu einer lebendigen Wissenschaftskultur leisten. \n\n\n\n\nVersammelt zur Generalprobe: oben v.l.n.r.: Andrea Brendel (AK Frauengeschichte)\, Michael Schneider (THU)\, Norbert Schulz (ADFC)\, unten v.l.n.r: Niklas Ehrentreich (Workshop-Leitung)\, Sabrina Lennartz (THU)\, Dorothee Hoffmann (ZAWiW)Foto: Chiara Unglert\, Universität Ulm\n\n\n\n\nWie bei jedem Science Slam entscheidet am Ende das Publikum\, welcher Beitrag am meisten überzeugt. Im Anschluss besteht Gelegenheit\, mit den Vortragenden ins Gespräch zu kommen und sich über laufende Projekte zu informieren\, an denen Interessierte selbst mitwirken können. \n\n\n\n\nModeriert wird der Slam von Andreas Rebholz\, bekannt aus der Science Slam-Reihe im Roxy Ulm. Für den musikalischen Rahmen sorgt Ferdinand Schlichtig. \n\n\n\nDer Eintritt ist frei.
URL:https://forschendes-lernen.de/event/citizen-science-slam/
LOCATION:Stadthaus Ulm\, Münsterplatz 50\, Ulm\, 89073
END:VEVENT
BEGIN:VEVENT
DTSTART;TZID=Europe/Berlin:20251120T143000
DTEND;TZID=Europe/Berlin:20251120T160000
DTSTAMP:20260421T172929
CREATED:20250413T093139Z
LAST-MODIFIED:20250413T093139Z
UID:6663-1763649000-1763654400@forschendes-lernen.de
SUMMARY:ASSIST Treffen
DESCRIPTION:Neuer Ort \, Villa Eberhardt
URL:https://forschendes-lernen.de/event/assist-treffen-8/
END:VEVENT
BEGIN:VEVENT
DTSTART;TZID=Europe/Berlin:20251110T133000
DTEND;TZID=Europe/Berlin:20251110T153000
DTSTAMP:20260421T172929
CREATED:20250814T091605Z
LAST-MODIFIED:20250814T091821Z
UID:7003-1762781400-1762788600@forschendes-lernen.de
SUMMARY:AK Treffen Pflanzenökologie
DESCRIPTION:Der AK Pflanzenökologie trifft sich am Montag\, 10.11. um 13:30 Uhr im Seminarraum des Botanischen Gartens (Hans-Krebs-Weg). Neuzugänge sind herzlich willkommen. Bei Interesse kontaktieren Sie bitte den Sprecher unter gerhard.schwenk@uni-ulm.de
URL:https://forschendes-lernen.de/event/ak-treffen-pflanzenoekologie-3/
END:VEVENT
BEGIN:VEVENT
DTSTART;TZID=Europe/Berlin:20251104T153000
DTEND;TZID=Europe/Berlin:20251104T173000
DTSTAMP:20260421T172929
CREATED:20250820T111643Z
LAST-MODIFIED:20251030T172701Z
UID:7010-1762270200-1762277400@forschendes-lernen.de
SUMMARY:AK Treffen Grüner Wasserstoff
DESCRIPTION:Der AK Grüner Wasserstoff trifft sich am 4.11. um 15:30 Uhr am WBZU und plant Aktivitäten und Austausch zum Thema H2. Neuzugänge sind herzlich willkommen\, um Anmeldung wird gebeten: dorothee.hoffmann@uni-ulm.de
URL:https://forschendes-lernen.de/event/ak-gruener-wasserstoff-8/
LOCATION:WBZU\, Helmholtzstraße 6\, 89081 Ulm
CATEGORIES:AK Grüner Wasserstoff,Forschendes Lernen,H2-Wandel
ATTACH;FMTTYPE=image/jpeg:https://forschendes-lernen.de/wp-content/uploads/2025/02/IMG_E5551.jpg
END:VEVENT
BEGIN:VEVENT
DTSTART;TZID=Europe/Berlin:20251030T180000
DTEND;TZID=Europe/Berlin:20251030T193000
DTSTAMP:20260421T172929
CREATED:20250820T113046Z
LAST-MODIFIED:20250820T113047Z
UID:7025-1761847200-1761852600@forschendes-lernen.de
SUMMARY:H2 Pioniere
DESCRIPTION:Joachim Alexander Ladra von cellcentric spricht über Brennstoffzellen im Schwerlastverkehr. Die Europäische Union legt einige der anspruchsvollsten CO2-Vorschriften für schwere Nutzfahrzeuge weltweit fest: -45% bis 2030 und -90% bis 2040. Ziele für deren Erreichung verschiedene Ansätze erforderlich sind. Ohne brennstoffzellenbetriebene Nutzfahrzeuge wird die Elektrifizierung des Straßenverkehrs nicht funktionieren. Der Vortrag beantwortet drei wichtige Fragen: Warum überhaupt Wasserstoff? Warum Brennstoffzellen-Systeme im LKW? Und warum cellcentric? \n\n\n\nLernen Sie in unserer Reihe H2 Pioniere mit dem ViLE-Netzwerk Wasserstoff-Akteure aus Ulm und der Modellregion kennen\, erhalten Sie Einblicke in ihre Arbeit und treten Sie mit ihnen in den Austausch. Erfahren Sie\, wie Wasserstoff bereits heute in unserer Region zum Einsatz kommt und die Energiezukunft gestaltet. \n\n\n\nDie Veranstaltungsreihe findet statt im Rahmen des Projekts ‚H2-Wandel‚. Wir wollen Grünen Wasserstoff als Energieträger für die Energie- und Verkehrswende praktisch erfahrbar machen und Unternehmen und Menschen für dieses Thema begeistern. Das Zentrum für Allgemeine Wissenschaftliche Weiterbildung (ZAWiW) der Universität Ulm übernimmt im Projekt Aufgaben der Bildung und Öffentlichkeitsarbeit. \n\n\n\nLink zur Veranstaltung
URL:https://forschendes-lernen.de/event/h2-pioniere-3/
END:VEVENT
BEGIN:VEVENT
DTSTART;TZID=Europe/Berlin:20251023T180000
DTEND;TZID=Europe/Berlin:20251023T193000
DTSTAMP:20260421T172929
CREATED:20250820T112806Z
LAST-MODIFIED:20250820T112807Z
UID:7017-1761242400-1761247800@forschendes-lernen.de
SUMMARY:H2 Pioniere
DESCRIPTION:Dr. Şeniz Sörgel und Florian Bulling sprechen über Wasserstoffforschung am fem Forschungsinstitut. Sie stellen neue Konzepte und Komponenten für anwendungsorientierte Lösungen vor. \n\n\n\nLernen Sie in unserer Reihe H2 Pioniere mit dem ViLE-Netzwerk Wasserstoff-Akteure aus Ulm und der Modellregion kennen\, erhalten Sie Einblicke in ihre Arbeit und treten Sie mit ihnen in den Austausch. Erfahren Sie\, wie Wasserstoff bereits heute in unserer Region zum Einsatz kommt und die Energiezukunft gestaltet. \n\n\n\nDie Veranstaltungsreihe findet statt im Rahmen des Projekts ‚H2-Wandel‚. Wir wollen Grünen Wasserstoff als Energieträger für die Energie- und Verkehrswende praktisch erfahrbar machen und Unternehmen und Menschen für dieses Thema begeistern. Das Zentrum für Allgemeine Wissenschaftliche Weiterbildung (ZAWiW) der Universität Ulm übernimmt im Projekt Aufgaben der Bildung und Öffentlichkeitsarbeit. \n\n\n\nLink zur Veranstaltung
URL:https://forschendes-lernen.de/event/h2-pioniere-2/
END:VEVENT
BEGIN:VEVENT
DTSTART;TZID=Europe/Berlin:20251016T180000
DTEND;TZID=Europe/Berlin:20251016T193000
DTSTAMP:20260421T172929
CREATED:20250820T112333Z
LAST-MODIFIED:20250820T112918Z
UID:7015-1760637600-1760643000@forschendes-lernen.de
SUMMARY:H2 Pioniere
DESCRIPTION:Robert Nave spricht über seine Firma Green Hydrogen Technology\, die eine patentierte Technologie zur dezentralen Erzeugung von klimaneutralem Wasserstoff aus nicht recycelbaren Abfällen entwickelt hat. Die erste Anlage wurde 2025 bei einem mittelständischen Entsorgungsunternehmen in Baden-Württemberg erfolgreich in Betrieb genommen. Sie haben sich dem Ziel verschrieben einen Beitrag zur Bekämpfung der global Abfallkriese und zum Hochlauf der Wasserstoffwirtschaft zu leisten. \n\n\n\nLernen Sie in unserer Reihe H2 Pioniere mit dem ViLE-Netzwerk Wasserstoff-Akteure aus Ulm und der Modellregion kennen\, erhalten Sie Einblicke in ihre Arbeit und treten Sie mit ihnen in den Austausch. Erfahren Sie\, wie Wasserstoff bereits heute in unserer Region zum Einsatz kommt und die Energiezukunft gestaltet. \n\n\n\nDie Veranstaltungsreihe findet statt im Rahmen des Projekts ‚H2-Wandel‚. Wir wollen Grünen Wasserstoff als Energieträger für die Energie- und Verkehrswende praktisch erfahrbar machen und Unternehmen und Menschen für dieses Thema begeistern. Das Zentrum für Allgemeine Wissenschaftliche Weiterbildung (ZAWiW) der Universität Ulm übernimmt im Projekt Aufgaben der Bildung und Öffentlichkeitsarbeit. \n\n\n\nLink zur Veranstaltung
URL:https://forschendes-lernen.de/event/h2-pioniere-wasserstoff-aus-abfaellen-energiewende-ist-teamsport-mit-robert-nave-green-hydrogen-technology/
END:VEVENT
BEGIN:VEVENT
DTSTART;TZID=Europe/Berlin:20251016T143000
DTEND;TZID=Europe/Berlin:20251016T160000
DTSTAMP:20260421T172929
CREATED:20250413T093047Z
LAST-MODIFIED:20250413T093048Z
UID:6661-1760625000-1760630400@forschendes-lernen.de
SUMMARY:ASSIST Treffen
DESCRIPTION:Neuer Ort \, Villa Eberhardt
URL:https://forschendes-lernen.de/event/assist-treffen-7/
END:VEVENT
BEGIN:VEVENT
DTSTART;TZID=Europe/Berlin:20251013T133000
DTEND;TZID=Europe/Berlin:20251013T153000
DTSTAMP:20260421T172929
CREATED:20250814T091458Z
LAST-MODIFIED:20250814T091458Z
UID:7001-1760362200-1760369400@forschendes-lernen.de
SUMMARY:AK Treffen Pflanzenökologie
DESCRIPTION:Der AK Pflanzenökologie trifft sich am Montag\, 13.10. um 13:30 Uhr im Seminarraum des Botanischen Gartens (Hans-Krebs-Weg). Neuzugänge sind herzlich willkommen. Bei Interesse kontaktieren Sie bitte den Sprecher unter gerhard.schwenk@uni-ulm.de
URL:https://forschendes-lernen.de/event/ak-treffen-pflanzenoekologie-2/
END:VEVENT
END:VCALENDAR