BEGIN:VCALENDAR
VERSION:2.0
PRODID:-//Bürgerwissenschaften und Forschendes  - ECPv6.15.14//NONSGML v1.0//EN
CALSCALE:GREGORIAN
METHOD:PUBLISH
X-ORIGINAL-URL:https://forschendes-lernen.de
X-WR-CALDESC:Veranstaltungen für Bürgerwissenschaften und Forschendes 
REFRESH-INTERVAL;VALUE=DURATION:PT1H
X-Robots-Tag:noindex
X-PUBLISHED-TTL:PT1H
BEGIN:VTIMEZONE
TZID:Europe/Berlin
BEGIN:DAYLIGHT
TZOFFSETFROM:+0100
TZOFFSETTO:+0200
TZNAME:CEST
DTSTART:20250330T010000
END:DAYLIGHT
BEGIN:STANDARD
TZOFFSETFROM:+0200
TZOFFSETTO:+0100
TZNAME:CET
DTSTART:20251026T010000
END:STANDARD
BEGIN:DAYLIGHT
TZOFFSETFROM:+0100
TZOFFSETTO:+0200
TZNAME:CEST
DTSTART:20260329T010000
END:DAYLIGHT
BEGIN:STANDARD
TZOFFSETFROM:+0200
TZOFFSETTO:+0100
TZNAME:CET
DTSTART:20261025T010000
END:STANDARD
BEGIN:DAYLIGHT
TZOFFSETFROM:+0100
TZOFFSETTO:+0200
TZNAME:CEST
DTSTART:20270328T010000
END:DAYLIGHT
BEGIN:STANDARD
TZOFFSETFROM:+0200
TZOFFSETTO:+0100
TZNAME:CET
DTSTART:20271031T010000
END:STANDARD
END:VTIMEZONE
BEGIN:VEVENT
DTSTART;TZID=Europe/Berlin:20260519T100000
DTEND;TZID=Europe/Berlin:20260519T120000
DTSTAMP:20260422T075047
CREATED:20260129T143301Z
LAST-MODIFIED:20260129T143301Z
UID:7245-1779184800-1779192000@forschendes-lernen.de
SUMMARY:AK AltJung Monatliches Treffen
DESCRIPTION:
URL:https://forschendes-lernen.de/event/ak-altjung-monatliches-treffen-4/
LOCATION:Generationentreff Ulm/Neu-Ulm e.V.\, Grüner Hof 5\, Ulm\, Germany
CATEGORIES:AK AltJung,Bürgerwissenschaften,Forschendes Lernen
END:VEVENT
BEGIN:VEVENT
DTSTART;TZID=Europe/Berlin:20260519T143000
DTEND;TZID=Europe/Berlin:20260519T190000
DTSTAMP:20260422T075047
CREATED:20260409T143255Z
LAST-MODIFIED:20260409T143604Z
UID:7357-1779201000-1779217200@forschendes-lernen.de
SUMMARY:CITIZEN SCIENCE NETZWERKTREFFEN SÜDDEUTSCHLAND
DESCRIPTION:Die Citizen Science-Landschaft in Süddeutschland ist lebendig\, vielseitig und voller spannender Projekte und Menschen. Und doch: Wir wissen teilweise gar nicht so genau\, was und wen es in unserer Nähe gibt. Das wollen wir ändern. \nDeshalb laden wir vom Netzwerk für Bürgerwissenschaften Ulm zum Citizen Science Netzwerktreffen Süddeutschland ein! \nZiele des Treffens\n– Gegenseitiges Kennenlernen von Akteur:innen und Projekten aus Süddeutschland\n– Reflexion und Weiterentwicklung der Citizen Science-Praxis\n– Diskussion konkreter Kooperationsmöglichkeiten \nVorläufiges Programm (Änderungen vorbehalten) \n14:30 Uhr       Ankommen\n15:00 – 15:30   Begrüßung & Austausch\n15:30 – 16:15   1. Impuls & Austausch\nThema und Referent:in werden noch bekanntgegeben\n16:15 – 16:45   Pause\n16:45 – 17:30   2. Impuls & Austausch\nJulia Brandt\, HTW Berlin\, AG Citizen Science Multiplikator:innen:\n»Handreichung Citizen Science an Universitäten\, Hochschulen\nund Forschungseinrichtungen im Fokus – Impulse für die Praxis«\n17:30 Uhr       Nächste Schritte\nu.a. Möglichkeit einer Citizen Science-AG Süd sowie\nZusammenarbeit bei der Citizen Science Radtour 2026\nAb 18:00 Uhr    Gemeinsames Abendessen \n────────────────────────────── \nAnmeldung per Mail bis zum 8. Mai 2026 an: dorothee.hoffmann@uni-ulm.de \nDas Vernetzungstreffen wird im Rahmen von partX – Fortbildungsreihe partizipative Forschung finanziell unterstützt. partX ist ein Angebot von mit:forschen! Gemeinsam Wissen schaffen. Das Projekt wird von Wissenschaft im Dialog und dem Museum für Naturkunde Berlin umgesetzt und vom Bundesministerium für Forschung\, Technologie und Raumfahrt gefördert.
URL:https://forschendes-lernen.de/event/citizen-science-netzwerktreffen-sueddeutschland/
LOCATION:Botanischer Garten Universität Ulm\, Seminarraum
CATEGORIES:Bürgerwissenschaften
ATTACH;FMTTYPE=image/jpeg:https://forschendes-lernen.de/wp-content/uploads/2026/04/Citizen-Science-Netzwerktreffen-Sueddeutschland.jpg
END:VEVENT
END:VCALENDAR