BEGIN:VCALENDAR
VERSION:2.0
PRODID:-//Bürgerwissenschaften und Forschendes  - ECPv6.15.14//NONSGML v1.0//EN
CALSCALE:GREGORIAN
METHOD:PUBLISH
X-WR-CALNAME:Bürgerwissenschaften und Forschendes 
X-ORIGINAL-URL:https://forschendes-lernen.de
X-WR-CALDESC:Veranstaltungen für Bürgerwissenschaften und Forschendes 
REFRESH-INTERVAL;VALUE=DURATION:PT1H
X-Robots-Tag:noindex
X-PUBLISHED-TTL:PT1H
BEGIN:VTIMEZONE
TZID:Europe/Berlin
BEGIN:DAYLIGHT
TZOFFSETFROM:+0100
TZOFFSETTO:+0200
TZNAME:CEST
DTSTART:20250330T010000
END:DAYLIGHT
BEGIN:STANDARD
TZOFFSETFROM:+0200
TZOFFSETTO:+0100
TZNAME:CET
DTSTART:20251026T010000
END:STANDARD
BEGIN:DAYLIGHT
TZOFFSETFROM:+0100
TZOFFSETTO:+0200
TZNAME:CEST
DTSTART:20260329T010000
END:DAYLIGHT
BEGIN:STANDARD
TZOFFSETFROM:+0200
TZOFFSETTO:+0100
TZNAME:CET
DTSTART:20261025T010000
END:STANDARD
BEGIN:DAYLIGHT
TZOFFSETFROM:+0100
TZOFFSETTO:+0200
TZNAME:CEST
DTSTART:20270328T010000
END:DAYLIGHT
BEGIN:STANDARD
TZOFFSETFROM:+0200
TZOFFSETTO:+0100
TZNAME:CET
DTSTART:20271031T010000
END:STANDARD
END:VTIMEZONE
BEGIN:VEVENT
DTSTART;TZID=Europe/Berlin:20260507T190000
DTEND;TZID=Europe/Berlin:20260507T210000
DTSTAMP:20260422T042328
CREATED:20260421T083527Z
LAST-MODIFIED:20260421T083527Z
UID:7362-1778180400-1778187600@forschendes-lernen.de
SUMMARY:Wasserstoff : Energieträger der Zukunft - Vortrag von ehrenamtlichen Wasserstofflotsen der Uni Ulm
DESCRIPTION:Was kann Wasserstoff leisten – und was passiert schon hier vor Ort? Der Arbeitskreis Grüner Wasserstoff der Universität Ulm gibt bei der Ortsgruppe des BUND Pfaffenhofen an der Roth einen verständlichen Überblick über Grundlagen\, heutige und künftige Einsatzmöglichkeiten und stellt das Projekt H2-Wandel vor\, mit dem Ulm und die Region zur Modellregion für grünen Wasserstoff werden. Die ehrenamtlichen Wasserstofflots*innen berichten aus der Praxis und zeigen\, wo Wasserstoff bereits eingesetzt wird – von Industrie bis Mobilität. Im Anschluss gibt es Gelegenheit zu Fragen und zum Gespräch.
URL:https://forschendes-lernen.de/event/wasserstoff-energietraeger-der-zukunft-vortrag-von-ehrenamtlichen-wasserstofflotsen-der-uni-ulm/
LOCATION:Alte Schule\, Hauptstraße 26\, 89284 Pfaffenhofen an der Roth\, Hauptstraße 26\, Pfaffenhofen an der Roth\, 89284\, Germany
CATEGORIES:AK Grüner Wasserstoff,H2-Wandel
END:VEVENT
END:VCALENDAR