BEGIN:VCALENDAR
VERSION:2.0
PRODID:-//Bürgerwissenschaften und Forschendes  - ECPv6.15.14//NONSGML v1.0//EN
CALSCALE:GREGORIAN
METHOD:PUBLISH
X-WR-CALNAME:Bürgerwissenschaften und Forschendes 
X-ORIGINAL-URL:https://forschendes-lernen.de
X-WR-CALDESC:Veranstaltungen für Bürgerwissenschaften und Forschendes 
REFRESH-INTERVAL;VALUE=DURATION:PT1H
X-Robots-Tag:noindex
X-PUBLISHED-TTL:PT1H
BEGIN:VTIMEZONE
TZID:Europe/Berlin
BEGIN:DAYLIGHT
TZOFFSETFROM:+0100
TZOFFSETTO:+0200
TZNAME:CEST
DTSTART:20250330T010000
END:DAYLIGHT
BEGIN:STANDARD
TZOFFSETFROM:+0200
TZOFFSETTO:+0100
TZNAME:CET
DTSTART:20251026T010000
END:STANDARD
BEGIN:DAYLIGHT
TZOFFSETFROM:+0100
TZOFFSETTO:+0200
TZNAME:CEST
DTSTART:20260329T010000
END:DAYLIGHT
BEGIN:STANDARD
TZOFFSETFROM:+0200
TZOFFSETTO:+0100
TZNAME:CET
DTSTART:20261025T010000
END:STANDARD
BEGIN:DAYLIGHT
TZOFFSETFROM:+0100
TZOFFSETTO:+0200
TZNAME:CEST
DTSTART:20270328T010000
END:DAYLIGHT
BEGIN:STANDARD
TZOFFSETFROM:+0200
TZOFFSETTO:+0100
TZNAME:CET
DTSTART:20271031T010000
END:STANDARD
END:VTIMEZONE
BEGIN:VEVENT
DTSTART;TZID=Europe/Berlin:20260423T140000
DTEND;TZID=Europe/Berlin:20260423T160000
DTSTAMP:20260421T210807
CREATED:20260206T160709Z
LAST-MODIFIED:20260206T160709Z
UID:7285-1776952800-1776960000@forschendes-lernen.de
SUMMARY:AK Wirtschaft
DESCRIPTION:14-tägiges Treffen des AK Wirtschaft aus dem Forschenden Lernen beim ZAWiW
URL:https://forschendes-lernen.de/event/ak-wirtschaft-50/
LOCATION:Villa Eberhardt\, Heidenheimer Str. 80\, 89075 Ulm
ORGANIZER;CN="AK Wirtschaft":MAILTO:stefan.kellerer@uni-ulm.de
END:VEVENT
BEGIN:VEVENT
DTSTART;TZID=Europe/Berlin:20260423T180000
DTEND;TZID=Europe/Berlin:20260423T193000
DTSTAMP:20260421T210807
CREATED:20260303T102130Z
LAST-MODIFIED:20260303T102527Z
UID:7318-1776967200-1776972600@forschendes-lernen.de
SUMMARY:H2 Pioniere: Wasserstoff aus Biomasse – der dezentrale Turbo für den Hochlauf
DESCRIPTION:Diese Woche haben wir Dr.-Ing. Andy Gradel von BtX Energy bei den H2 Pionieren zu Gast. Er wird Wasserstoff aus Biomasse als dezentralen Turbo für den Wasserstoff-Hochlauf vorstellen.
URL:https://forschendes-lernen.de/event/h2-pioniere-wasserstoff-aus-biomasse-der-dezentrale-turbo-fuer-den-hochlauf/
CATEGORIES:AK Grüner Wasserstoff,H2-Wandel
ATTACH;FMTTYPE=image/jpeg:https://forschendes-lernen.de/wp-content/uploads/2026/03/202604_Postkarte-H2-Pioniere1.jpg
END:VEVENT
END:VCALENDAR